BEGIN:VCALENDAR
VERSION:2.0
PRODID:icalendar-ruby
CALSCALE:GREGORIAN
BEGIN:VEVENT
DTSTAMP:20260423T105716Z
UID:5715e4c0-e01f-46a1-8fa3-4f298cc1268c
DTSTART;VALUE=DATE:20260430
DESCRIPTION:Property ID# 606401\, Locatoin: Harcourts\, 1198 Whakaue Street
 \, Rotorua 3010\, Time: 1:00PM
SUMMARY:Auction for 14 Johnston Crescent
END:VEVENT
END:VCALENDAR
