BEGIN:VCALENDAR
VERSION:2.0
PRODID:icalendar-ruby
CALSCALE:GREGORIAN
BEGIN:VEVENT
DTSTAMP:20260420T130702Z
UID:3bd91f67-284e-47b5-b909-553b1854b889
DTSTART;VALUE=DATE:20240711
DESCRIPTION:Property ID# 576521\, Locatoin: Bayleys\, 247 Cameron Road\, Ta
 uranga\, Time: 4:00PM
SUMMARY:Auction for 
END:VEVENT
END:VCALENDAR
