BEGIN:VCALENDAR
VERSION:2.0
PRODID:icalendar-ruby
CALSCALE:GREGORIAN
BEGIN:VEVENT
DTSTAMP:20260420T092202Z
UID:6286a217-030c-42bb-9660-2582092e38b8
DTSTART;VALUE=DATE:20220330
DESCRIPTION:Property ID# 529758\, Locatoin: Bayleys auction room\, 247 Came
 ron Road\, Tauranga\, Time: 12:00PM
SUMMARY:Auction for 
END:VEVENT
END:VCALENDAR
